{"text_format":"1","workbook":"xlsx","n_sheets":6,"sheets":["Addition","Soustraction","Multiplication","sa","ss","sm"],"not_rendered":{"charts":0,"images":0,"macros":1,"external_links":0,"defined_names":0,"comments":0,"pivot_tables":0},"unopened":[],"bounds":{"document_bytes":16777216,"sheet_cells":100000,"rows_first":2000,"rows_last":500,"rows_between":2000,"halvings":0,"cell_chars":16384,"cell_head_chars":4096},"cells_cut":0,"cells_raw":0,"read":"whole","date_system":"1900"}

{"sheet":"Addition","index":0,"n_rows":14,"n_cols":9,"rows_kept":14,"cut":false,"hidden":false,"merged":[[0,0,0,5],[13,0,13,5]]}
["Addition de 2 nombres compris entre :",null,null,null,null,null,0,"et",10]
[]
[{"$f":"sa!A3","v":9},"+",{"$f":"sa!B3","v":1},"=",null,null,{"$f":"IF(OR(E$3=\"\",E$4=\"\",E$5=\"\",E$6=\"\",E$7=\"\",E$8=\"\",E$9=\"\",E$10=\"\",E$11=\"\",E$12=\"\")=TRUE,\"\",IF(E3=\"\",\"\",IF(E3=A3+C3,\"Juste\",\"Faux\")))","v":""}]
[{"$f":"sa!A4","v":0},"+",{"$f":"sa!B4","v":6},"=",null,null,{"$f":"IF(OR(E$3=\"\",E$4=\"\",E$5=\"\",E$6=\"\",E$7=\"\",E$8=\"\",E$9=\"\",E$10=\"\",E$11=\"\",E$12=\"\")=TRUE,\"\",IF(E4=\"\",\"\",IF(E4=A4+C4,\"Juste\",\"Faux\")))","v":""}]
[{"$f":"sa!A5","v":1},"+",{"$f":"sa!B5","v":2},"=",null,null,""]
[{"$f":"sa!A6","v":4},"+",{"$f":"sa!B6","v":7},"=",null,null,""]
[{"$f":"sa!A7","v":6},"+",{"$f":"sa!B7","v":10},"=",null,null,""]
[{"$f":"sa!A8","v":4},"+",{"$f":"sa!B8","v":5},"=",null,null,""]
[{"$f":"sa!A9","v":9},"+",{"$f":"sa!B9","v":5},"=",null,null,""]
[{"$f":"sa!A10","v":5},"+",{"$f":"sa!B10","v":4},"=",null,null,""]
[{"$f":"sa!A11","v":1},"+",{"$f":"sa!B11","v":9},"=",null,null,""]
[{"$f":"sa!A12","v":2},"+",{"$f":"sa!B12","v":9},"=",null,null,""]
[]
["Nombre de bonnes réponses : ",null,null,null,null,null,{"$f":"IF(OR(E$3=\"\",E$4=\"\",E$5=\"\",E$6=\"\",E$7=\"\",E$8=\"\",E$9=\"\",E$10=\"\",E$11=\"\",E$12=\"\")=TRUE,\"\",COUNTIF(G3:G12,\"Juste\"))","v":""},{"$f":"IF(OR(E$3=\"\",E$4=\"\",E$5=\"\",E$6=\"\",E$7=\"\",E$8=\"\",E$9=\"\",E$10=\"\",E$11=\"\",E$12=\"\")=TRUE,\"\",\"/\")","v":""},{"$f":"IF(OR(E$3=\"\",E$4=\"\",E$5=\"\",E$6=\"\",E$7=\"\",E$8=\"\",E$9=\"\",E$10=\"\",E$11=\"\",E$12=\"\")=TRUE,\"\",COUNT(E3:E12))","v":""}]

{"sheet":"Soustraction","index":1,"n_rows":14,"n_cols":9,"rows_kept":14,"cut":false,"hidden":false,"merged":[[0,0,0,5],[13,0,13,5]]}
["Soustraction de 2 nombres compris entre :",null,null,null,null,null,0,"et",10]
[]
[{"$f":"MAX(ss!A3:B3)","v":9},"-",{"$f":"MIN(ss!A3:B3)","v":0},"=",null,null,{"$f":"IF(OR(E$3=\"\",E$4=\"\",E$5=\"\",E$6=\"\",E$7=\"\",E$8=\"\",E$9=\"\",E$10=\"\",E$11=\"\",E$12=\"\")=TRUE,\"\",IF(E3=\"\",\"\",IF(E3=A3-C3,\"Juste\",\"Faux\")))","v":""}]
[{"$f":"MAX(ss!A4:B4)","v":10},"-",{"$f":"MIN(ss!A4:B4)","v":5},"=",null,null,{"$f":"IF(OR(E$3=\"\",E$4=\"\",E$5=\"\",E$6=\"\",E$7=\"\",E$8=\"\",E$9=\"\",E$10=\"\",E$11=\"\",E$12=\"\")=TRUE,\"\",IF(E4=\"\",\"\",IF(E4=A4-C4,\"Juste\",\"Faux\")))","v":""}]
[{"$f":"MAX(ss!A5:B5)","v":2},"-",{"$f":"MIN(ss!A5:B5)","v":1},"=",null,null,""]
[{"$f":"MAX(ss!A6:B6)","v":6},"-",{"$f":"MIN(ss!A6:B6)","v":2},"=",null,null,""]
[{"$f":"MAX(ss!A7:B7)","v":10},"-",{"$f":"MIN(ss!A7:B7)","v":0},"=",null,null,""]
[{"$f":"MAX(ss!A8:B8)","v":9},"-",{"$f":"MIN(ss!A8:B8)","v":0},"=",null,null,""]
[{"$f":"MAX(ss!A9:B9)","v":8},"-",{"$f":"MIN(ss!A9:B9)","v":2},"=",null,null,""]
[{"$f":"MAX(ss!A10:B10)","v":3},"-",{"$f":"MIN(ss!A10:B10)","v":2},"=",null,null,""]
[{"$f":"MAX(ss!A11:B11)","v":6},"-",{"$f":"MIN(ss!A11:B11)","v":1},"=",null,null,""]
[{"$f":"MAX(ss!A12:B12)","v":8},"-",{"$f":"MIN(ss!A12:B12)","v":0},"=",null,null,""]
[]
["Nombre de bonnes réponses : ",null,null,null,null,null,{"$f":"IF(OR(E$3=\"\",E$4=\"\",E$5=\"\",E$6=\"\",E$7=\"\",E$8=\"\",E$9=\"\",E$10=\"\",E$11=\"\",E$12=\"\")=TRUE,\"\",COUNTIF(G3:G12,\"Juste\"))","v":""},{"$f":"IF(OR(E$3=\"\",E$4=\"\",E$5=\"\",E$6=\"\",E$7=\"\",E$8=\"\",E$9=\"\",E$10=\"\",E$11=\"\",E$12=\"\")=TRUE,\"\",\"/\")","v":""},{"$f":"IF(OR(E$3=\"\",E$4=\"\",E$5=\"\",E$6=\"\",E$7=\"\",E$8=\"\",E$9=\"\",E$10=\"\",E$11=\"\",E$12=\"\")=TRUE,\"\",COUNT(E3:E12))","v":""}]

{"sheet":"Multiplication","index":2,"n_rows":14,"n_cols":9,"rows_kept":14,"cut":false,"hidden":false,"merged":[[0,0,0,5],[13,0,13,5]]}
["Multiplication de 2 nombres compris entre :",null,null,null,null,null,0,"et",10]
[]
[{"$f":"sm!A3","v":1},"x",{"$f":"sm!B3","v":10},"=",null,null,{"$f":"IF(OR(E$3=\"\",E$4=\"\",E$5=\"\",E$6=\"\",E$7=\"\",E$8=\"\",E$9=\"\",E$10=\"\",E$11=\"\",E$12=\"\")=TRUE,\"\",IF(E3=\"\",\"\",IF(E3=A3*C3,\"Juste\",\"Faux\")))","v":""}]
[{"$f":"sm!A4","v":8},"x",{"$f":"sm!B4","v":0},"=",null,null,{"$f":"IF(OR(E$3=\"\",E$4=\"\",E$5=\"\",E$6=\"\",E$7=\"\",E$8=\"\",E$9=\"\",E$10=\"\",E$11=\"\",E$12=\"\")=TRUE,\"\",IF(E4=\"\",\"\",IF(E4=A4*C4,\"Juste\",\"Faux\")))","v":""}]
[{"$f":"sm!A5","v":9},"x",{"$f":"sm!B5","v":0},"=",null,null,""]
[{"$f":"sm!A6","v":10},"x",{"$f":"sm!B6","v":10},"=",null,null,""]
[{"$f":"sm!A7","v":4},"x",{"$f":"sm!B7","v":8},"=",null,null,""]
[{"$f":"sm!A8","v":1},"x",{"$f":"sm!B8","v":0},"=",null,null,""]
[{"$f":"sm!A9","v":10},"x",{"$f":"sm!B9","v":1},"=",null,null,""]
[{"$f":"sm!A10","v":10},"x",{"$f":"sm!B10","v":7},"=",null,null,""]
[{"$f":"sm!A11","v":8},"x",{"$f":"sm!B11","v":3},"=",null,null,""]
[{"$f":"sm!A12","v":9},"x",{"$f":"sm!B12","v":6},"=",null,null,""]
[]
["Nombre de bonnes réponses : ",null,null,null,null,null,{"$f":"IF(OR(E$3=\"\",E$4=\"\",E$5=\"\",E$6=\"\",E$7=\"\",E$8=\"\",E$9=\"\",E$10=\"\",E$11=\"\",E$12=\"\")=TRUE,\"\",COUNTIF(G3:G12,\"Juste\"))","v":""},{"$f":"IF(OR(E$3=\"\",E$4=\"\",E$5=\"\",E$6=\"\",E$7=\"\",E$8=\"\",E$9=\"\",E$10=\"\",E$11=\"\",E$12=\"\")=TRUE,\"\",\"/\")","v":""},{"$f":"IF(OR(E$3=\"\",E$4=\"\",E$5=\"\",E$6=\"\",E$7=\"\",E$8=\"\",E$9=\"\",E$10=\"\",E$11=\"\",E$12=\"\")=TRUE,\"\",COUNT(E3:E12))","v":""}]

{"sheet":"sa","index":3,"n_rows":12,"n_cols":2,"rows_kept":12,"cut":false,"hidden":false,"merged":[]}
[]
[]
[{"$f":"RANDBETWEEN(Addition!$G$1,Addition!$I$1)","v":9},{"$f":"RANDBETWEEN(Addition!$G$1,Addition!$I$1)","v":1}]
[{"$f":"RANDBETWEEN(Addition!$G$1,Addition!$I$1)","v":0},{"$f":"RANDBETWEEN(Addition!$G$1,Addition!$I$1)","v":6}]
[{"$f":"RANDBETWEEN(Addition!$G$1,Addition!$I$1)","v":1},{"$f":"RANDBETWEEN(Addition!$G$1,Addition!$I$1)","v":2}]
[{"$f":"RANDBETWEEN(Addition!$G$1,Addition!$I$1)","v":4},{"$f":"RANDBETWEEN(Addition!$G$1,Addition!$I$1)","v":7}]
[{"$f":"RANDBETWEEN(Addition!$G$1,Addition!$I$1)","v":6},{"$f":"RANDBETWEEN(Addition!$G$1,Addition!$I$1)","v":10}]
[{"$f":"RANDBETWEEN(Addition!$G$1,Addition!$I$1)","v":4},{"$f":"RANDBETWEEN(Addition!$G$1,Addition!$I$1)","v":5}]
[{"$f":"RANDBETWEEN(Addition!$G$1,Addition!$I$1)","v":9},{"$f":"RANDBETWEEN(Addition!$G$1,Addition!$I$1)","v":5}]
[{"$f":"RANDBETWEEN(Addition!$G$1,Addition!$I$1)","v":5},{"$f":"RANDBETWEEN(Addition!$G$1,Addition!$I$1)","v":4}]
[{"$f":"RANDBETWEEN(Addition!$G$1,Addition!$I$1)","v":1},{"$f":"RANDBETWEEN(Addition!$G$1,Addition!$I$1)","v":9}]
[{"$f":"RANDBETWEEN(Addition!$G$1,Addition!$I$1)","v":2},{"$f":"RANDBETWEEN(Addition!$G$1,Addition!$I$1)","v":9}]

{"sheet":"ss","index":4,"n_rows":12,"n_cols":2,"rows_kept":12,"cut":false,"hidden":false,"merged":[]}
[]
[]
[{"$f":"RANDBETWEEN(Soustraction!$G$1,Soustraction!$I$1)","v":9},{"$f":"RANDBETWEEN(Soustraction!$G$1,Soustraction!$I$1)","v":0}]
[{"$f":"RANDBETWEEN(Soustraction!$G$1,Soustraction!$I$1)","v":10},{"$f":"RANDBETWEEN(Soustraction!$G$1,Soustraction!$I$1)","v":5}]
[{"$f":"RANDBETWEEN(Soustraction!$G$1,Soustraction!$I$1)","v":2},{"$f":"RANDBETWEEN(Soustraction!$G$1,Soustraction!$I$1)","v":1}]
[{"$f":"RANDBETWEEN(Soustraction!$G$1,Soustraction!$I$1)","v":6},{"$f":"RANDBETWEEN(Soustraction!$G$1,Soustraction!$I$1)","v":2}]
[{"$f":"RANDBETWEEN(Soustraction!$G$1,Soustraction!$I$1)","v":10},{"$f":"RANDBETWEEN(Soustraction!$G$1,Soustraction!$I$1)","v":0}]
[{"$f":"RANDBETWEEN(Soustraction!$G$1,Soustraction!$I$1)","v":9},{"$f":"RANDBETWEEN(Soustraction!$G$1,Soustraction!$I$1)","v":0}]
[{"$f":"RANDBETWEEN(Soustraction!$G$1,Soustraction!$I$1)","v":2},{"$f":"RANDBETWEEN(Soustraction!$G$1,Soustraction!$I$1)","v":8}]
[{"$f":"RANDBETWEEN(Soustraction!$G$1,Soustraction!$I$1)","v":3},{"$f":"RANDBETWEEN(Soustraction!$G$1,Soustraction!$I$1)","v":2}]
[{"$f":"RANDBETWEEN(Soustraction!$G$1,Soustraction!$I$1)","v":6},{"$f":"RANDBETWEEN(Soustraction!$G$1,Soustraction!$I$1)","v":1}]
[{"$f":"RANDBETWEEN(Soustraction!$G$1,Soustraction!$I$1)","v":8},{"$f":"RANDBETWEEN(Soustraction!$G$1,Soustraction!$I$1)","v":0}]

{"sheet":"sm","index":5,"n_rows":12,"n_cols":2,"rows_kept":12,"cut":false,"hidden":false,"merged":[]}
[]
[]
[{"$f":"RANDBETWEEN(Multiplication!$G$1,Multiplication!$I$1)","v":1},{"$f":"RANDBETWEEN(Multiplication!$G$1,Multiplication!$I$1)","v":10}]
[{"$f":"RANDBETWEEN(Multiplication!$G$1,Multiplication!$I$1)","v":8},{"$f":"RANDBETWEEN(Multiplication!$G$1,Multiplication!$I$1)","v":0}]
[{"$f":"RANDBETWEEN(Multiplication!$G$1,Multiplication!$I$1)","v":9},{"$f":"RANDBETWEEN(Multiplication!$G$1,Multiplication!$I$1)","v":0}]
[{"$f":"RANDBETWEEN(Multiplication!$G$1,Multiplication!$I$1)","v":10},{"$f":"RANDBETWEEN(Multiplication!$G$1,Multiplication!$I$1)","v":10}]
[{"$f":"RANDBETWEEN(Multiplication!$G$1,Multiplication!$I$1)","v":4},{"$f":"RANDBETWEEN(Multiplication!$G$1,Multiplication!$I$1)","v":8}]
[{"$f":"RANDBETWEEN(Multiplication!$G$1,Multiplication!$I$1)","v":1},{"$f":"RANDBETWEEN(Multiplication!$G$1,Multiplication!$I$1)","v":0}]
[{"$f":"RANDBETWEEN(Multiplication!$G$1,Multiplication!$I$1)","v":10},{"$f":"RANDBETWEEN(Multiplication!$G$1,Multiplication!$I$1)","v":1}]
[{"$f":"RANDBETWEEN(Multiplication!$G$1,Multiplication!$I$1)","v":10},{"$f":"RANDBETWEEN(Multiplication!$G$1,Multiplication!$I$1)","v":7}]
[{"$f":"RANDBETWEEN(Multiplication!$G$1,Multiplication!$I$1)","v":8},{"$f":"RANDBETWEEN(Multiplication!$G$1,Multiplication!$I$1)","v":3}]
[{"$f":"RANDBETWEEN(Multiplication!$G$1,Multiplication!$I$1)","v":9},{"$f":"RANDBETWEEN(Multiplication!$G$1,Multiplication!$I$1)","v":6}]